BEGIN:VCALENDAR
VERSION:2.0
PRODID:-//Eventin//Event Calendar//EN
CALSCALE:GREGORIAN
METHOD:PUBLISH
BEGIN:VEVENT
UID:8c0455d69ea87857e473f2d3bbadf668@www.lehmtanz.ch
SUMMARY:Tannenlichter
DESCRIPTION:Modelliere drei Tannenbäume für besondere Lichteffekte.\nDer 
 Kurs findet an zwei Abenden statt:\nDer Glasurtermin findet am 24. Septembe
 r 2026 um 18:00 Uhr statt.\nKurskosten: 108.00 CHF.  Die Bezahlung erfolgt
  bis spätestens 3 Tage vor Kursbeginn via TWINT oder Banküberweisung. Die
  entsprechenden Zahlungsinformationen werden in der Buchungsbestätigung mi
 tgeteilt.
LOCATION:Spielhofgasse 8\, Pfaffnau
DTSTAMP:20260421T025612Z
DTSTART:20260910T160000Z
DTEND:20260910T180000Z
END:VEVENT
END:VCALENDAR
