BEGIN:VCALENDAR
VERSION:2.0
PRODID:-//Eventin//Event Calendar//EN
CALSCALE:GREGORIAN
METHOD:PUBLISH
BEGIN:VEVENT
UID:40195f5d45ffdb81aa2c6acf0a73fdb0@www.lehmtanz.ch
SUMMARY:Tannenlichter
DESCRIPTION:Modelliere drei Tannenbäume für besondere Lichteffekte.\nDer 
 Kurs findet an zwei Nachmittagen statt:\nDer Glasurtermin findet am 22. Sep
 tember 2026 um 13:30 Uhr statt.\nKurskosten: 108.00 CHF.  Die Bezahlung er
 folgt bis spätestens 3 Tage vor Kursbeginn via TWINT oder Banküberweisung
 . Die entsprechenden Zahlungsinformationen werden in der Buchungsbestätigu
 ng mitgeteilt.
LOCATION:Spielhofgasse 8\, Pfaffnau
DTSTAMP:20260421T025043Z
DTSTART:20260908T113000Z
DTEND:20260909T090000Z
END:VEVENT
END:VCALENDAR
