BEGIN:VCALENDAR
VERSION:2.0
PRODID:-//Eventin//Event Calendar//EN
CALSCALE:GREGORIAN
METHOD:PUBLISH
BEGIN:VEVENT
UID:cf60847dc6ccbcad11f17e7b27656020@www.lehmtanz.ch
SUMMARY:Tannenlichter
DESCRIPTION:Modelliere drei Tannenbäume für besondere Lichteffekte.\nDer 
 Kurs findet an zwei Morgen statt:\nDer Glasurtermin findet am 23. September
  2026 um 09:00 Uhr statt.\nKurskosten: 108.00 CHF.  Die Bezahlung erfolgt 
 bis spätestens 3 Tage vor Kursbeginn via TWINT oder Banküberweisung. Die 
 entsprechenden Zahlungsinformationen werden in der Buchungsbestätigung mit
 geteilt.
LOCATION:Spielhofgasse 8\, Pfaffnau
DTSTAMP:20260421T025358Z
DTSTART:20260909T070000Z
DTEND:20260909T090000Z
END:VEVENT
END:VCALENDAR
