BEGIN:VCALENDAR
VERSION:2.0
PRODID:-//Eventin//Event Calendar//EN
CALSCALE:GREGORIAN
METHOD:PUBLISH
BEGIN:VEVENT
UID:10a4c4bb9d3bf9a1c417622ed348d114@www.lehmtanz.ch
SUMMARY:Tannenlichter
DESCRIPTION:Modelliere zwei Tannenbäume für besondere Lichteffekte.\nAlte
 rsgruppe 10-16 Jahre.\nDer Kurs findet an zwei Nachmittagen statt:\nDer Gla
 surtermin findet am 23. September 2026 um 13:30 Uhr statt.\nKurskosten: 72.
 00 CHF.  Die Bezahlung erfolgt bis spätestens 3 Tage vor Kursbeginn via T
 WINT oder Banküberweisung. Die entsprechenden Zahlungsinformationen werden
  in der Buchungsbestätigung mitgeteilt.
LOCATION:Spielhofgasse 8\, Pfaffnau
DTSTAMP:20260421T025225Z
DTSTART:20260909T113000Z
DTEND:20260909T133000Z
END:VEVENT
END:VCALENDAR
