BEGIN:VCALENDAR
VERSION:2.0
PRODID:-//Eventin//Event Calendar//EN
CALSCALE:GREGORIAN
METHOD:PUBLISH
BEGIN:VEVENT
UID:476828bf468858bbc56feeef2b72ee2f@www.lehmtanz.ch
SUMMARY:Gespenster
DESCRIPTION:Nette oder gruselige drei kleine Gespenster “fliegen“ schon
  bald umher\, du entscheidest...\nDer Kurs findet an zwei Abenden statt:\nD
 er Glasurtermin findet am 17. September 2026 um 18:00 Uhr statt.\nKurskoste
 n: 108.00 CHF.  Die Bezahlung erfolgt bis spätestens 3 Tage vor Kursbegin
 n via TWINT oder Banküberweisung. Die entsprechenden Zahlungsinformationen
  werden in der Buchungsbestätigung mitgeteilt.
LOCATION:Spielhofgasse 8\, Pfaffnau
DTSTAMP:20260421T025225Z
DTSTART:20260903T160000Z
DTEND:20260903T180000Z
END:VEVENT
END:VCALENDAR
