BEGIN:VCALENDAR
VERSION:2.0
PRODID:-//Eventin//Event Calendar//EN
CALSCALE:GREGORIAN
METHOD:PUBLISH
BEGIN:VEVENT
UID:5ae93c970257f22cac017ef468c820cc@www.lehmtanz.ch
SUMMARY:Gespenster
DESCRIPTION:Nette oder gruselige drei kleine Gespenster “fliegen“ schon
  bald umher\, du entscheidest…\nDer Kurs findet an zwei Nachmittagen stat
 t:\nDer Glasurtermin findet am 15. September 2026 um 13:30 Uhr statt.\nKurs
 kosten: 108.00 CHF.  Die Bezahlung erfolgt bis spätestens 3 Tage vor Kurs
 beginn via TWINT oder Banküberweisung. Die entsprechenden Zahlungsinformat
 ionen werden in der Buchungsbestätigung mitgeteilt.
LOCATION:Spielhofgasse 8\, Pfaffnau
DTSTAMP:20260421T025612Z
DTSTART:20260901T113000Z
DTEND:20260901T133000Z
END:VEVENT
END:VCALENDAR
