BEGIN:VCALENDAR
VERSION:2.0
PRODID:-//Eventin//Event Calendar//EN
CALSCALE:GREGORIAN
METHOD:PUBLISH
BEGIN:VEVENT
UID:a1e96d0616485462ae176a7c419bcf14@www.lehmtanz.ch
SUMMARY:Gespenster
DESCRIPTION:Nette oder gruselige drei kleine Gespenster “fliegen“ schon
  bald umher\, du entscheidest...\nDer Kurs findet an zwei Morgen statt:\nDe
 r Glasurtermin findet am 16. September 2026 um 09:00 Uhr statt.\nKurskosten
 : 108.00 CHF.  Die Bezahlung erfolgt bis spätestens 3 Tage vor Kursbeginn
  via TWINT oder Banküberweisung. Die entsprechenden Zahlungsinformationen 
 werden in der Buchungsbestätigung mitgeteilt.
LOCATION:Spielhofgasse 8\, Pfaffnau
DTSTAMP:20260421T025419Z
DTSTART:20260902T070000Z
DTEND:20260902T090000Z
END:VEVENT
END:VCALENDAR
