BEGIN:VCALENDAR
VERSION:2.0
PRODID:-//Eventin//Event Calendar//EN
CALSCALE:GREGORIAN
METHOD:PUBLISH
BEGIN:VEVENT
UID:23313c4454dbd4a58872a24c30bd2753@www.lehmtanz.ch
SUMMARY:Gespenster
DESCRIPTION:Nette oder gruselige zwei-drei kleine Gespenster “fliegen“ 
 schon bald umher\, du entscheidest...\nAltersgruppe 10-16 Jahre.\nDer Kurs 
 findet an zwei Nachmittagen statt:\nDer Glasurtermin findet am 16. Septembe
 r 2026 um 13:30 Uhr statt.\nKurskosten: 72.00 CHF.  Die Bezahlung erfolgt 
 bis spätestens 3 Tage vor Kursbeginn via TWINT oder Banküberweisung. Die 
 entsprechenden Zahlungsinformationen werden in der Buchungsbestätigung mit
 geteilt.
LOCATION:Spielhofgasse 8\, Pfaffnau
DTSTAMP:20260421T024242Z
DTSTART:20260902T113000Z
DTEND:20260902T133000Z
END:VEVENT
END:VCALENDAR
