BEGIN:VCALENDAR
VERSION:2.0
PRODID:-//Eventin//Event Calendar//EN
CALSCALE:GREGORIAN
METHOD:PUBLISH
BEGIN:VEVENT
UID:f62852761151c7b4a91d6d85659e047d@www.lehmtanz.ch
SUMMARY:Teller mit Motiv auf schwarzem Ton
DESCRIPTION:Bedrucke drei-vier kleine Teller aus schwarzem Ton mit dekorati
 ven Motiven. Verschiedene Motive und Farben vorhanden.\nDer Kurs findet an 
 zwei Abenden statt:\nDer Glasurtermin findet am 27. August 2026 um 18:00 Uh
 r statt\nKurskosten: 108.00 CHF.  Die Bezahlung erfolgt bis spätestens 3 
 Tage vor Kursbeginn via TWINT oder Banküberweisung. Die entsprechenden Zah
 lungsinformationen werden in der Buchungsbestätigung mitgeteilt.
LOCATION:Spielhofgasse 8\, Pfaffnau
DTSTAMP:20260421T024925Z
DTSTART:20260813T160000Z
DTEND:20260813T180000Z
END:VEVENT
END:VCALENDAR
