BEGIN:VCALENDAR
VERSION:2.0
PRODID:-//Eventin//Event Calendar//EN
CALSCALE:GREGORIAN
METHOD:PUBLISH
BEGIN:VEVENT
UID:49f0228f02c482667788977ba0c895f6@www.lehmtanz.ch
SUMMARY:Teller mit Motiv auf schwarzem Ton
DESCRIPTION:Bedrucke drei-vier kleine Teller aus schwarzem Ton mit dekorat
 iven Motiven. Verschiedene Motive und Farben vorhanden.\nDer Kurs findet an
  zwei Nachmittagen statt:\nDer Glasurtermin findet am 25. August 2026 um 13
 :30 Uhr statt\nKurskosten: 108.00 CHF.  Die Bezahlung erfolgt bis spätest
 ens 3 Tage vor Kursbeginn via TWINT oder Banküberweisung. Die entsprechend
 en Zahlungsinformationen werden in der Buchungsbestätigung mitgeteilt.
LOCATION:Spielhofgasse 8\, Pfaffnau
DTSTAMP:20260421T024925Z
DTSTART:20260811T113000Z
DTEND:20260811T133000Z
END:VEVENT
END:VCALENDAR
