BEGIN:VCALENDAR
VERSION:2.0
PRODID:-//Eventin//Event Calendar//EN
CALSCALE:GREGORIAN
METHOD:PUBLISH
BEGIN:VEVENT
UID:367c5693d4d772c415aae722670e493d@www.lehmtanz.ch
SUMMARY:Teller mit Motiv auf schwarzem Ton
DESCRIPTION:Bedrucke drei-vier kleine Teller aus schwarzem Ton mit dekorat
 iven Motiven. Verschiedene Motive und Farben vorhanden.\nDer Kurs findet an
  zwei Morgen statt:\nDer Glasurtermin findet am 26. August 2026 um 09:00Uhr
  statt.\nKurskosten: 108.00 CHF.  Die Bezahlung erfolgt bis spätestens 3 
 Tage vor Kursbeginn via TWINT oder Banküberweisung. Die entsprechenden Zah
 lungsinformationen werden in der Buchungsbestätigung mitgeteilt.
LOCATION:Spielhofgasse 8\, Pfaffnau
DTSTAMP:20260421T025526Z
DTSTART:20260812T070000Z
DTEND:20260812T090000Z
END:VEVENT
END:VCALENDAR
