BEGIN:VCALENDAR
VERSION:2.0
PRODID:-//Eventin//Event Calendar//EN
CALSCALE:GREGORIAN
METHOD:PUBLISH
BEGIN:VEVENT
UID:197cd5ea758e33c0b63b1293bc4b466c@www.lehmtanz.ch
SUMMARY:Abdrücke in schwarzem Ton
DESCRIPTION:Blätter\, Blüten und was du sonst noch findest\, geben wunder
 schöne Abdrücke in deine drei-vier Tonobjekte aus schwarzem Ton.\nDer Ku
 rs findet an zwei Abenden statt:\nDer Glasurtermin findet am 20. August 202
 6 um18:00 Uhr statt.\nKurskosten: 108.00 CHF.  Die Bezahlung erfolgt bis s
 pätestens 3 Tage vor Kursbeginn via TWINT oder Banküberweisung. Die entsp
 rechenden Zahlungsinformationen werden in der Buchungsbestätigung mitgetei
 lt.
LOCATION:Spielhofgasse 8\, Pfaffnau
DTSTAMP:20260421T030427Z
DTSTART:20260806T160000Z
DTEND:20260806T180000Z
END:VEVENT
END:VCALENDAR
