BEGIN:VCALENDAR
VERSION:2.0
PRODID:-//Eventin//Event Calendar//EN
CALSCALE:GREGORIAN
METHOD:PUBLISH
BEGIN:VEVENT
UID:dd9f471663435714b239cb4591d6a8b2@www.lehmtanz.ch
SUMMARY:Abdrücke in schwarzem Ton
DESCRIPTION:Blätter\, Blüten und was du sonst noch findest\, geben wunder
 schöne Abdrücke in deine drei-vier Tonobjekte aus schwarzem Ton.\nDer Ku
 rs findet an zwei Morgen statt:\nDer Glasurtermin findet am 19. August 2026
  um 09:00 Uhr statt.\nKurskosten: 108.00 CHF.  Die Bezahlung erfolgt bis s
 pätestens 3 Tage vor Kursbeginn via TWINT oder Banküberweisung. Die entsp
 rechenden Zahlungsinformationen werden in der Buchungsbestätigung mitgetei
 lt.
LOCATION:Spielhofgasse 8\, Pfaffnau
DTSTAMP:20260421T025241Z
DTSTART:20260805T070000Z
DTEND:20260805T090000Z
END:VEVENT
END:VCALENDAR
