BEGIN:VCALENDAR
VERSION:2.0
PRODID:-//Eventin//Event Calendar//EN
CALSCALE:GREGORIAN
METHOD:PUBLISH
BEGIN:VEVENT
UID:69cce00c9226678b2b06696e13c62ee9@www.lehmtanz.ch
SUMMARY:Abdrücke in schwarzem Ton
DESCRIPTION:Blätter\, Blüten und was du sonst noch findest\, geben wunder
 schöne Abdrücke in deine drei-vier Tonobjekte aus schwarzem Ton.\nDer Ku
 rs findet an zwei Nachmittagen statt:\nDer Glasurtermin findet am 18. Augus
 t 2026 um 13:30 Uhr statt.\nKurskosten: 108.00 CHF.  Die Bezahlung erfolgt
  bis spätestens 3 Tage vor Kursbeginn via TWINT oder Banküberweisung. Die
  entsprechenden Zahlungsinformationen werden in der Buchungsbestätigung mi
 tgeteilt.
LOCATION:Spielhofgasse 8\, Pfaffnau
DTSTAMP:20260421T025332Z
DTSTART:20260804T113000Z
DTEND:20260804T133000Z
END:VEVENT
END:VCALENDAR
