BEGIN:VCALENDAR
VERSION:2.0
PRODID:-//Eventin//Event Calendar//EN
CALSCALE:GREGORIAN
METHOD:PUBLISH
BEGIN:VEVENT
UID:a8fbbf41ec2510ed3c7831a9f2d3ac3d@www.lehmtanz.ch
SUMMARY:Abdrücke in Ton
DESCRIPTION:Blätter\, Blüten und was du sonst noch findest\, geben wunder
 schöne Abdrücke in deine zwei-drei Tonobjekte.\nAltersgruppe 10-16 Jahre.
 \nDer Kurs findet an zwei Nachmittagen statt:\nDer Glasurtermin findet am 2
 6. August 2026 um 13:30 Uhr statt.\nKurskosten: 72.00 CHF.  Die Bezahlung 
 erfolgt bis spätestens 3 Tage vor Kursbeginn via TWINT oder Banküberweisu
 ng. Die entsprechenden Zahlungsinformationen werden in der Buchungsbestäti
 gung mitgeteilt.
LOCATION:Spielhofgasse 8\, Pfaffnau
DTSTAMP:20260421T024131Z
DTSTART:20260812T113000Z
DTEND:20260812T133000Z
END:VEVENT
END:VCALENDAR
