BEGIN:VCALENDAR
VERSION:2.0
PRODID:-//Eventin//Event Calendar//EN
CALSCALE:GREGORIAN
METHOD:PUBLISH
BEGIN:VEVENT
UID:f95fa2083bf8f6bab2165d31d2da6ff1@www.lehmtanz.ch
SUMMARY:Hängedeko mit Holz
DESCRIPTION:Erstelle tolle Hängedekorationen aus  Ton und Holz.\nAltersgr
 uppe 10-16 Jahre.\nDer Kurs findet an zwei Nachmittagen statt:\nDer Glasurt
 ermin findet am 19. August 2026 um 13:30 Uhr statt.\nKurskosten: 72.00 CHF.
   Die Bezahlung erfolgt bis spätestens 3 Tage vor Kursbeginn via TWINT od
 er Banküberweisung. Die entsprechenden Zahlungsinformationen werden in der
  Buchungsbestätigung mitgeteilt.\n 
LOCATION:Spielhofgasse 8\, Pfaffnau
DTSTAMP:20260421T023553Z
DTSTART:20260805T113000Z
DTEND:20260805T133000Z
END:VEVENT
END:VCALENDAR
