BEGIN:VCALENDAR
VERSION:2.0
PRODID:-//Eventin//Event Calendar//EN
CALSCALE:GREGORIAN
METHOD:PUBLISH
BEGIN:VEVENT
UID:7c63c051d4a952628fb7ad888797db41@www.lehmtanz.ch
SUMMARY:Abdrücke in Ton
DESCRIPTION:Blätter\, Blüten und was du sonst noch findest\, geben wunder
 schöne Abdrücke in deine drei-vier Tonobjekte.\nDer Kurs findet an zwei A
 benden statt:\nDer Glasurtermin findet am 25. Juni 2026 um 18:00 Uhr statt.
 \nKurskosten: 108.00 CHF.  Die Bezahlung erfolgt bis spätestens 3 Tage vo
 r Kursbeginn via TWINT oder Banküberweisung. Die entsprechenden Zahlungsin
 formationen werden in der Buchungsbestätigung mitgeteilt.
LOCATION:Spielhofgasse 8\, Pfaffnau
DTSTAMP:20260421T025027Z
DTSTART:20260611T160000Z
DTEND:20260611T180000Z
END:VEVENT
END:VCALENDAR
