BEGIN:VCALENDAR
VERSION:2.0
PRODID:-//Eventin//Event Calendar//EN
CALSCALE:GREGORIAN
METHOD:PUBLISH
BEGIN:VEVENT
UID:07d91b3b1bde432d4431739e44432072@www.lehmtanz.ch
SUMMARY:Abdrücke in Ton
DESCRIPTION:Blätter\, Blüten und was du sonst noch findest\, geben wunder
 schöne Abdrücke in deine drei-vier Tonobjekte.\nDer Kurs findet an zwei N
 achmittagen statt:\nDer Glasurtermin findet am 23. Juni 2026 um 13:30 Uhr s
 tatt.\nKurskosten: 108.00 CHF.  Die Bezahlung erfolgt bis spätestens 3 Ta
 ge vor Kursbeginn via TWINT oder Banküberweisung. Die entsprechenden Zahlu
 ngsinformationen werden in der Buchungsbestätigung mitgeteilt.
LOCATION:Spielhofgasse 8\, Pfaffnau
DTSTAMP:20260421T025506Z
DTSTART:20260609T113000Z
DTEND:20260609T133000Z
END:VEVENT
END:VCALENDAR
