BEGIN:VCALENDAR
VERSION:2.0
PRODID:-//Eventin//Event Calendar//EN
CALSCALE:GREGORIAN
METHOD:PUBLISH
BEGIN:VEVENT
UID:09dbe58c15cc528a834f8d237f6faea2@www.lehmtanz.ch
SUMMARY:Abdrücke in Ton
DESCRIPTION:Blätter\, Blüten und was du sonst noch findest\, geben wunder
 schöne Abdrücke in deine drei-vier Tonobjekte.\nDer Kurs findet an zwei M
 orgen statt:\nDer Glasurtermin findet am 24. Juni 2026 um 09:00 Uhr statt.\
 nKurskosten: 108.00 CHF.  Die Bezahlung erfolgt bis spätestens 3 Tage vor
  Kursbeginn via TWINT oder Banküberweisung. Die entsprechenden Zahlungsinf
 ormationen werden in der Buchungsbestätigung mitgeteilt.
LOCATION:Spielhofgasse 8\, Pfaffnau
DTSTAMP:20260421T025241Z
DTSTART:20260610T070000Z
DTEND:20260610T090000Z
END:VEVENT
END:VCALENDAR
