BEGIN:VCALENDAR
VERSION:2.0
PRODID:-//Eventin//Event Calendar//EN
CALSCALE:GREGORIAN
METHOD:PUBLISH
BEGIN:VEVENT
UID:639692cde9c4fc889b6cbe39850369fa@www.lehmtanz.ch
SUMMARY:Abdrücke in Ton
DESCRIPTION:Blätter\, Blüten und was du sonst noch findest\, geben wunder
 schöne Abdrücke in deine zwei-drei Tonobjekte.\nAltersgruppe 10-16 Jahre.
 \nDer Kurs findet an zwei Nachmittagen statt:\nDer Glasurtermin findet am 2
 4. Juni 2026 um 13:30 Uhr statt.\nKurskosten: 72.00 CHF.  Die Bezahlung er
 folgt bis spätestens 3 Tage vor Kursbeginn via TWINT oder Banküberweisung
 . Die entsprechenden Zahlungsinformationen werden in der Buchungsbestätigu
 ng mitgeteilt.\n 
LOCATION:Spielhofgasse 8\, Pfaffnau
DTSTAMP:20260421T025419Z
DTSTART:20260610T113000Z
DTEND:20260610T133000Z
END:VEVENT
END:VCALENDAR
