BEGIN:VCALENDAR
VERSION:2.0
PRODID:-//Eventin//Event Calendar//EN
CALSCALE:GREGORIAN
METHOD:PUBLISH
BEGIN:VEVENT
UID:f743dc74fb067495beb13ab999156369@www.lehmtanz.ch
SUMMARY:Kerzen- / Dipschalen
DESCRIPTION:Der Ton wird  in drei-vier verschiedene Schalen geformt\, welc
 he du erst als Kerze und danach als Dipschale nutzen kannst.\nDer Kurs find
 et an zwei Nachmittagen statt:\nDer Glasurtermin findet am 16. Juni 2026 um
  13:30 Uhr statt.\nKurskosten: 108.00 CHF.  Die Bezahlung erfolgt bis spä
 testens 3 Tage vor Kursbeginn via TWINT oder Banküberweisung. Die entsprec
 henden Zahlungsinformationen werden in der Buchungsbestätigung mitgeteilt.
LOCATION:Spielhofgasse 8\, Pfaffnau
DTSTAMP:20260421T025358Z
DTSTART:20260602T113000Z
DTEND:20260602T133000Z
END:VEVENT
END:VCALENDAR
