BEGIN:VCALENDAR
VERSION:2.0
PRODID:-//Eventin//Event Calendar//EN
CALSCALE:GREGORIAN
METHOD:PUBLISH
BEGIN:VEVENT
UID:987042076609c8a2792e39bed312999c@www.lehmtanz.ch
SUMMARY:Kerzen- / Dipschalen
DESCRIPTION:Der Ton wird  in drei-vier verschiedene Schalen geformt\, welc
 he du erst als Kerze und danach als Dipschale nutzen kannst.\nDer Kurs find
 et an zwei Morgen statt:\nDer Glasurtermin findet am 17. Juni 2026 um 09:00
  Uhr statt.\nKurskosten: 108.00 CHF.  Die Bezahlung erfolgt bis spätesten
 s 3 Tage vor Kursbeginn via TWINT oder Banküberweisung. Die entsprechenden
  Zahlungsinformationen werden in der Buchungsbestätigung mitgeteilt.
LOCATION:Spielhofgasse 8\, Pfaffnau
DTSTAMP:20260421T025506Z
DTSTART:20260603T070000Z
DTEND:20260603T090000Z
END:VEVENT
END:VCALENDAR
