BEGIN:VCALENDAR
VERSION:2.0
PRODID:-//Eventin//Event Calendar//EN
CALSCALE:GREGORIAN
METHOD:PUBLISH
BEGIN:VEVENT
UID:707910e17fec306e76550f143df6aba3@www.lehmtanz.ch
SUMMARY:Kerzen- / Dipschalen
DESCRIPTION:Der Ton wird  in zwei-drei verschiedene Schalen geformt\, welc
 he du erst als Kerze und danach als Dipschale nutzen kannst.\nAltersgruppe 
 10-16 Jahre.\nDer Kurs findet an zwei Nachmittagen statt:\nDer Glasurtermin
  findet am 17. Juni 2026 um 13:30 Uhr statt.\nKurskosten: 72.00 CHF.  Die 
 Bezahlung erfolgt bis spätestens 3 Tage vor Kursbeginn via TWINT oder Bank
 überweisung. Die entsprechenden Zahlungsinformationen werden in der Buchun
 gsbestätigung mitgeteilt.\n 
LOCATION:Spielhofgasse 8\, Pfaffnau
DTSTAMP:20260421T025332Z
DTSTART:20260603T113000Z
DTEND:20260603T133000Z
END:VEVENT
END:VCALENDAR
