BEGIN:VCALENDAR
VERSION:2.0
PRODID:-//Eventin//Event Calendar//EN
CALSCALE:GREGORIAN
METHOD:PUBLISH
BEGIN:VEVENT
UID:2b019c8e3d05fe066f905e19dced2d41@www.lehmtanz.ch
SUMMARY:Teller mit Motiv
DESCRIPTION:Bedrucke drei-vier kleine Teller mit dekorativen Motiven. Versc
 hiedene Motive und Farben zur Auswahl.\nDer Kurs findet an zwei Abenden sta
 tt:\nDer Glasurtermin findet am 18. Juni 2026 um 18:00 Uhr statt.\nKurskost
 en: 108.00 CHF.  Die Bezahlung erfolgt bis spätestens 3 Tage vor Kursbegi
 nn via TWINT oder Banküberweisung. Die entsprechenden Zahlungsinformatione
 n werden in der Buchungsbestätigung mitgeteilt.
LOCATION:Spielhofgasse 8\, Pfaffnau
DTSTAMP:20260421T025124Z
DTSTART:20260528T160000Z
DTEND:20260528T180000Z
END:VEVENT
END:VCALENDAR
