BEGIN:VCALENDAR
VERSION:2.0
PRODID:-//Eventin//Event Calendar//EN
CALSCALE:GREGORIAN
METHOD:PUBLISH
BEGIN:VEVENT
UID:72c676d94f1dcf7769e63341c90fa442@www.lehmtanz.ch
SUMMARY:Teller mit Motiv
DESCRIPTION:Bedrucke drei-vier kleine Teller mit dekorativen Motiven. Versc
 hiedene Motive und Farben zur Auswahl.\nDer Kurs findet an zwei Nachmittage
 n statt:\nDer Glasurtermin findet am 26. Mai 2026 um 13:30 Uhr statt.\nKurs
 kosten: 108.00 CHF.  Die Bezahlung erfolgt bis spätestens 3 Tage vor Kurs
 beginn via TWINT oder Banküberweisung. Die entsprechenden Zahlungsinformat
 ionen werden in der Buchungsbestätigung mitgeteilt.
LOCATION:Spielhofgasse 8\, Pfaffnau
DTSTAMP:20260421T025303Z
DTSTART:20260512T113000Z
DTEND:20260512T133000Z
END:VEVENT
END:VCALENDAR
