BEGIN:VCALENDAR
VERSION:2.0
PRODID:-//Eventin//Event Calendar//EN
CALSCALE:GREGORIAN
METHOD:PUBLISH
BEGIN:VEVENT
UID:887dc94b85a8d514620b583cc6a56c50@www.lehmtanz.ch
SUMMARY:Teller mit Motiv
DESCRIPTION:Bedrucke drei-vier kleine Teller mit dekorativen Motiven. Versc
 hiedene Motive und Farben zur Auswahl.\nDer Kurs findet an zwei Morgen stat
 t:\nDer Glasurtermin findet am 27. Mai 2026 um 09:00 Uhr statt.\nKurskosten
 : 108.00 CHF.  Die Bezahlung erfolgt bis spätestens 3 Tage vor Kursbeginn
  via TWINT oder Banküberweisung. Die entsprechenden Zahlungsinformationen 
 werden in der Buchungsbestätigung mitgeteilt.
LOCATION:Spielhofgasse 8\, Pfaffnau
DTSTAMP:20260421T025303Z
DTSTART:20260513T070000Z
DTEND:20260513T090000Z
END:VEVENT
END:VCALENDAR
