BEGIN:VCALENDAR
VERSION:2.0
PRODID:-//Eventin//Event Calendar//EN
CALSCALE:GREGORIAN
METHOD:PUBLISH
BEGIN:VEVENT
UID:ad348c6b03925467ce570a35fb0a0c44@www.lehmtanz.ch
SUMMARY:Teller mit Motiv
DESCRIPTION:Bedrucke zwei-drei kleine Teller mit dekorativen Motiven. Versc
 hiedene Motive und Farben zur Auswahl.\nAltersgruppe 10-16 Jahre.\nDer Kurs
  findet an zwei Nachmittagen statt:\nDer Glasurtermin findet am 27. Mai 202
 6 um 13:30 Uhr statt.\nKurskosten: 72.00 CHF.  Die Bezahlung erfolgt bis s
 pätestens 3 Tage vor Kursbeginn via TWINT oder Banküberweisung. Die entsp
 rechenden Zahlungsinformationen werden in der Buchungsbestätigung mitgetei
 lt.
LOCATION:Spielhofgasse 8\, Pfaffnau
DTSTAMP:20260421T023553Z
DTSTART:20260513T113000Z
DTEND:20260513T133000Z
END:VEVENT
END:VCALENDAR
