BEGIN:VCALENDAR
VERSION:2.0
PRODID:-//Eventin//Event Calendar//EN
CALSCALE:GREGORIAN
METHOD:PUBLISH
BEGIN:VEVENT
UID:7aa08390961737bfb3c4ee30388d055f@www.lehmtanz.ch
SUMMARY:Hängedeko mit Holz
DESCRIPTION:Erstelle individuelle Hängedekorationen aus Ton und Holz.\nDer
  Kurs findet an zwei Abenden statt:\nDer Glasurtermin findet am 21. Mai 202
 6 um 18:00 Uhr statt.\nKurskosten: 108.00 CHF.  Die Bezahlung erfolgt bis 
 spätestens 3 Tage vor Kursbeginn via TWINT oder Banküberweisung. Die ents
 prechenden Zahlungsinformationen werden in der Buchungsbestätigung mitgete
 ilt.
LOCATION:Spielhofgasse 8\, Pfaffnau
DTSTAMP:20260421T025526Z
DTSTART:20260507T160000Z
DTEND:20260507T180000Z
END:VEVENT
END:VCALENDAR
