BEGIN:VCALENDAR
VERSION:2.0
PRODID:-//Eventin//Event Calendar//EN
CALSCALE:GREGORIAN
METHOD:PUBLISH
BEGIN:VEVENT
UID:1d82b005b76a7389e18f43c858bfb4d8@www.lehmtanz.ch
SUMMARY:Hängedeko mit Holz
DESCRIPTION:Erstelle individuelle Hängedekorationen aus Ton und Holz.\nDer
  Kurs findet an zwei Nachmittagen statt:\nDer Glasurtermin findet am 19. Ma
 i 2026 um 13:30 Uhr statt.\nKurskosten: 108.00 CHF.  Die Bezahlung erfolgt
  bis spätestens 3 Tage vor Kursbeginn via TWINT oder Banküberweisung. Die
  entsprechenden Zahlungsinformationen werden in der Buchungsbestätigung mi
 tgeteilt.
LOCATION:Spielhofgasse 8\, Pfaffnau
DTSTAMP:20260421T025124Z
DTSTART:20260505T113000Z
DTEND:20260505T133000Z
END:VEVENT
END:VCALENDAR
