BEGIN:VCALENDAR
VERSION:2.0
PRODID:-//Eventin//Event Calendar//EN
CALSCALE:GREGORIAN
METHOD:PUBLISH
BEGIN:VEVENT
UID:8eaeb64e1c5f366ba64d5858d924ebae@www.lehmtanz.ch
SUMMARY:Hängedeko mit Holz
DESCRIPTION:Erstelle individuelle Hängedekorationen aus Ton und Holz.\nDer
  Kurs findet an zwei Morgen statt:\nDer Glasurtermin findet am 20. Mai 2026
  um 09:00 Uhr statt.\nKurskosten: 108.00 CHF.  Die Bezahlung erfolgt bis s
 pätestens 3 Tage vor Kursbeginn via TWINT oder Banküberweisung. Die entsp
 rechenden Zahlungsinformationen werden in der Buchungsbestätigung mitgetei
 lt.
LOCATION:Spielhofgasse 8\, Pfaffnau
DTSTAMP:20260421T025027Z
DTSTART:20260506T070000Z
DTEND:20260506T090000Z
END:VEVENT
END:VCALENDAR
