BEGIN:VCALENDAR
VERSION:2.0
PRODID:-//Eventin//Event Calendar//EN
CALSCALE:GREGORIAN
METHOD:PUBLISH
BEGIN:VEVENT
UID:924b4fe07f91293e7ea2d2e00ef3caac@www.lehmtanz.ch
SUMMARY:Hängedeko mit Holz
DESCRIPTION:Erstelle tolle Hängedekorationen aus Ton und Holz.\nAltersgrup
 pe 10-16 Jahre.\nDer Kurs findet an zwei Nachmittagen statt:\nDer Glasurter
 min findet am 20. Mai 2026 um 13:30 Uhr statt.\nKurskosten: 72.00 CHF.  Di
 e Bezahlung erfolgt bis spätestens 3 Tage vor Kursbeginn via TWINT oder Ba
 nküberweisung. Die entsprechenden Zahlungsinformationen werden in der Buch
 ungsbestätigung mitgeteilt.
LOCATION:Spielhofgasse 8\, Pfaffnau
DTSTAMP:20260421T025043Z
DTSTART:20260506T113000Z
DTEND:20260506T133000Z
END:VEVENT
END:VCALENDAR
